BEGIN:VCALENDAR
VERSION:2.0
PRODID:-//2024 Newport Festa Italiana - Celebrating Our Italian Heritage - ECPv6.15.12.2//NONSGML v1.0//EN
CALSCALE:GREGORIAN
METHOD:PUBLISH
X-ORIGINAL-URL:https://newportfesta.org
X-WR-CALDESC:Events for 2024 Newport Festa Italiana - Celebrating Our Italian Heritage
REFRESH-INTERVAL;VALUE=DURATION:PT1H
X-Robots-Tag:noindex
X-PUBLISHED-TTL:PT1H
BEGIN:VTIMEZONE
TZID:UTC
BEGIN:STANDARD
TZOFFSETFROM:+0000
TZOFFSETTO:+0000
TZNAME:UTC
DTSTART:20240101T000000
END:STANDARD
END:VTIMEZONE
BEGIN:VEVENT
DTSTART;TZID=UTC:20251013T123000
DTEND;TZID=UTC:20251013T140000
DTSTAMP:20260421T133837
CREATED:20250422T164735Z
LAST-MODIFIED:20250617T203820Z
UID:4617-1760358600-1760364000@newportfesta.org
SUMMARY:After The Parade ... Happy Columbus Day Luncheon
DESCRIPTION:After The Parade…\nMonday\, October 13\, 2025 \nAfter the Parade…\nHappy Columbus Day Luncheon\n12:30pm\nSardella’s Italian Restaurant\n30 Memorial Boulevard West\nTickets $25. per person\nAdvance tickets available at www.sardellas.com\nSee menu selections online (not a buffet)\nTickets available at door; in advance preferred
URL:https://newportfesta.org/event/after-the-parade-happy-columbus-day-luncheon/
END:VEVENT
END:VCALENDAR